BEGIN:VCALENDAR
VERSION:2.0
PRODID:-//wp-events-plugin.com//7.2.3.1//EN
BEGIN:VEVENT
UID:81@culturesetpatrimoines.bj
DTSTART:20231215T190000Z
DTEND:20240223T210000Z
DTSTAMP:20240220T184821Z
URL:https://culturesetpatrimoines.bj/evenements/10480/
SUMMARY:Exposition collective:Vestiges de nos aïeux
DESCRIPTION:Cette exposition collective de Sika da Silveira &amp\; Élise T
 okoudagba nous plonge dans la réflexion sur le destin de l'âme après la
  mort. Leurs œuvres originales établissent un dialogue entre deux techni
 ques artistiques distinctes\, tout en explorant l'influence des "ancêtres
 " et leur impact sur le monde contemporain. Si bien sûr\, l’exposition 
 intitulée "Vestiges de nos aïeux" se poursuit jusqu'au 23/02/24. Nous vo
 us invitons à y assister.\n\nRestez connectés sur culturesetpatrimoines.
 bj pour d'autres nouvelles.
ATTACH;FMTTYPE=image/jpeg:https://culturesetpatrimoines.bj/wp-content/uplo
 ads/2024/01/ancetre.jpg
CATEGORIES:Culture,Exposition
END:VEVENT
END:VCALENDAR