BEGIN:VCALENDAR
VERSION:2.0
PRODID:-//wp-events-plugin.com//7.2.3.1//EN
BEGIN:VEVENT
UID:225@culturesetpatrimoines.bj
DTSTART:20250227T230000Z
DTEND:20250228T170000Z
DTSTAMP:20250217T172918Z
URL:https://culturesetpatrimoines.bj/evenements/appel-a-candidature-concou
 rs-de-poesie/
SUMMARY:Appel à candidature :Concours de Poésie
DESCRIPTION:Bénin Excellence et la Fondation Vallet organisent la 6ème é
 dition du concours de Poésie sur le thème “ Promouvoir les droits\, l
 ’égalité et l'autonomisation des femmes et des filles”. L’appel à
  candidature est déjà lancé et prendra fin le 28 Février 2025 à 18h. 
 Ton  style d’écriture est-il à la hauteur? Alors ne manquez surtout p
 as cette occasion de montrer tes compétences et de faire valoir ton talen
 t. \n\nPour plus d’information sur les critères de sélection et les d
 émarches à suivre\, rendez vous sur leur page en cliquant ici!\n\nFacebo
 ok
ATTACH;FMTTYPE=image/jpeg:https://culturesetpatrimoines.bj/wp-content/uplo
 ads/2025/02/475861661_961726076052057_3353470678948535013_n.jpg
CATEGORIES:Appel à candidature,Concours
END:VEVENT
END:VCALENDAR