BEGIN:VCALENDAR
VERSION:2.0
PRODID:-//wp-events-plugin.com//7.2.3.1//EN
BEGIN:VEVENT
UID:234@culturesetpatrimoines.bj
DTSTART:20250218T230000Z
DTEND:20250425T230000Z
DTSTAMP:20250220T153852Z
URL:https://culturesetpatrimoines.bj/evenements/appel-a-candidature-salon-
 de-la-musique/
SUMMARY:Appel à candidature : Salon de la musique
DESCRIPTION:Artistes\, groupes musicaux\, promoteurs culturels et acteurs d
 e l'industrie musicale béninoise et africaine\, saisissez l'opportunité 
 de briller lors de la 2e édition du Salon de la Musique Moderne d'Inspira
 tion Traditionnelle du Bénin ! Un événement unique célébrant la riche
 sse musicale de notre nation\, où tradition et modernité se rencontrent.
ATTACH;FMTTYPE=image/jpeg:https://culturesetpatrimoines.bj/wp-content/uplo
 ads/2025/02/474889933_441726065688422_7885875667246329637_n.jpg
CATEGORIES:Appel à candidature
END:VEVENT
END:VCALENDAR