BEGIN:VCALENDAR
VERSION:2.0
PRODID:-//wp-events-plugin.com//7.2.3.1//EN
BEGIN:VEVENT
UID:193@culturesetpatrimoines.bj
DTSTART:20241231T230000Z
DTEND:20250214T230000Z
DTSTAMP:20250123T143033Z
URL:https://culturesetpatrimoines.bj/evenements/appel-a-projets-documentai
 res-ouidah-en-pleine-transformation/
SUMMARY:Appel à projets documentaires : Ouidah en pleine transformation
DESCRIPTION:Vous avez entre 18 et 30 ans et vous habitez Ouidah ou sa régi
 on ? Vous aimez le cinéma\, l'histoire et l'art du récit ? Le projet Cin
 é Culture est fait pour vous ! Découvrez tous les détails de l'appel à
  participation ici : https://bit.ly/3DTneVb
ATTACH;FMTTYPE=image/jpeg:https://culturesetpatrimoines.bj/wp-content/uplo
 ads/2025/01/473541884_1030008325812321_9138664356612280136_n.jpg
CATEGORIES:Appel à candidature
LOCATION:https://bit.ly/3DTneVb
END:VEVENT
END:VCALENDAR