BEGIN:VCALENDAR
VERSION:2.0
PRODID:-//wp-events-plugin.com//7.2.3.1//EN
BEGIN:VEVENT
UID:263@culturesetpatrimoines.bj
DTSTART:20250323T230000Z
DTEND:20250325T230000Z
DTSTAMP:20250320T153921Z
URL:https://culturesetpatrimoines.bj/evenements/atelier-de-formation-elect
 ronique/
SUMMARY:Atelier de formation électronique
DESCRIPTION:Envie de plonger dans le monde fascinant d'Arduino ? Rejoignez 
 la formation immersive de 3 jours à Blolab Cotonou. Du 24 au 26 mars 2025
 \, apprenez à concevoir et programmer vos propres circuits interactifs. Q
 ue vous soyez débutant ou curieux\, découvrez les bases de l'électroniq
 ue et créez des projets passionnants. Inscrivez-vous vite ! Lien vers le 
 formulaire
ATTACH;FMTTYPE=image/jpeg:https://culturesetpatrimoines.bj/wp-content/uplo
 ads/2025/03/485005921_680056337916079_5474864769547655599_n.jpg
CATEGORIES:Formation
LOCATION:Blolab\, Zogbohouè 10arrondissement\, Cotonou\, Bénin\, 0000\, L
 ittoral\, Bénin
X-APPLE-STRUCTURED-LOCATION;VALUE=URI;X-ADDRESS=Zogbohouè 10arrondissement
 \, Cotonou\, Bénin\, 0000\, Littoral\, Bénin;X-APPLE-RADIUS=100;X-TITLE=
 Blolab:geo:0,0
END:VEVENT
END:VCALENDAR