BEGIN:VCALENDAR
VERSION:2.0
PRODID:-//wp-events-plugin.com//7.2.3.1//EN
BEGIN:VEVENT
UID:271@culturesetpatrimoines.bj
DTSTART:20250402T230000Z
DTEND:20250408T230000Z
DTSTAMP:20250403T145243Z
URL:https://culturesetpatrimoines.bj/evenements/blochallenge-2025/
SUMMARY:Blochallenge 2025!
DESCRIPTION:La deuxième édition du BloChallenge2025 promet une aventure i
 nédite ! Une centaine de jeunes créateurs\, issus des écoles Ecole229 e
 t de l'INMAAC\, ainsi que des passionnés d'art et de culture de tout le B
 énin\, se réunissent à Unipod Bénin UAC pour insuffler une nouvelle dy
 namique au secteur culturel et patrimonial grâce au numérique. Une semai
 ne de défis\, d'innovation et de collaboration où leur créativité n'au
 ra aucune limite.
ATTACH;FMTTYPE=image/jpeg:https://culturesetpatrimoines.bj/wp-content/uplo
 ads/2025/04/486192162_690315906890122_3462822627868106077_n.jpg
CATEGORIES:Jeu,Master class
LOCATION:Université d’Abomey-Calavi (UAC)\, Université d’Abomey-Calav
 i\, Abomey-Calavi\, Bénin\, Atlantique\, Bénin
X-APPLE-STRUCTURED-LOCATION;VALUE=URI;X-ADDRESS=Université d’Abomey-Cala
 vi\, Abomey-Calavi\, Bénin\, Atlantique\, Bénin;X-APPLE-RADIUS=100;X-TIT
 LE=Université d’Abomey-Calavi (UAC):geo:0,0
END:VEVENT
END:VCALENDAR