BEGIN:VCALENDAR
VERSION:2.0
PRODID:-//wp-events-plugin.com//7.2.3.1//EN
BEGIN:VEVENT
UID:285@culturesetpatrimoines.bj
DTSTART:20250421T230000Z
DTEND:20250425T230000Z
DTSTAMP:20250417T133910Z
URL:https://culturesetpatrimoines.bj/evenements/blolab-future-makers/
SUMMARY:Blolab : Future Makers
DESCRIPTION:Rendez les prochaines vacances de Pâques exceptionnelles et en
 richissantes pour vos enfants ! Le stage d'immersion technologique Future 
 Makers est de retour pour les congés : 5 demi-journées d'exploration fas
 cinante et de création débordante à travers la technologie. Du 22 au 26
  avril 2025\, à Cotonou et Abomey-Calavi\, offrez à vos jeunes (7-17 ans
 ) l'opportunité d'apprendre la programmation\, le bricolage\, la fabricat
 ion\, l'impression 3D et la conception d'inventions avec des experts passi
 onnés. Le bonus ? Ils repartiront avec leur propre création\, des compé
 tences d'avenir et le prestigieux passeport "Futur Maker" by BLOLAB !\n\nD
 es vacances intelligentes\, amusantes et inspirantes : le rêve pour vos e
 nfants\, non ? N'hésitez plus et inscrivez-les vite : https://urls.fr/jHw
 Bi0 
ATTACH;FMTTYPE=image/jpeg:https://culturesetpatrimoines.bj/wp-content/uplo
 ads/2025/04/486125972_697603092828070_159471930797185545_n.jpg
CATEGORIES:Formation
LOCATION:Blolab\, Zogbohouè 10arrondissement\, Cotonou\, Bénin\, 0000\, L
 ittoral\, Bénin
X-APPLE-STRUCTURED-LOCATION;VALUE=URI;X-ADDRESS=Zogbohouè 10arrondissement
 \, Cotonou\, Bénin\, 0000\, Littoral\, Bénin;X-APPLE-RADIUS=100;X-TITLE=
 Blolab:geo:0,0
END:VEVENT
END:VCALENDAR