BEGIN:VCALENDAR
VERSION:2.0
PRODID:-//wp-events-plugin.com//7.2.3.1//EN
BEGIN:VEVENT
UID:153@culturesetpatrimoines.bj
DTSTART:20241218T140000Z
DTEND:20241218T160000Z
DTSTAMP:20241216T180823Z
URL:https://culturesetpatrimoines.bj/evenements/cafe-du-patrimoine/
SUMMARY:Café du Patrimoine
DESCRIPTION:L'École du Patrimoine Africain a le plaisir de vous convier à
  la toute première édition de son  "Café du patrimoine" \, le mercredi
  18 décembre 2024 à 15h00\, dans ses locaux à Porto-Novo. Ce rendez-vou
 s\, placé sous le thème "Économie muséale et patrimoniale au Bénin"\,
  accueillera M. Souayibou Varissou\, expert en gestion du patrimoine cultu
 rel. Cette initiative s'inscrit dans le cadre d'un vaste programme de rech
 erche sur la restitution des biens culturels\, avec l’appui de l'AFD et 
 l'Ambassade de France.
ATTACH;FMTTYPE=image/jpeg:https://culturesetpatrimoines.bj/wp-content/uplo
 ads/2024/12/469835973_978441900970778_5160636963408797125_n.jpg
CATEGORIES:Master class
LOCATION:L'École du Patrimoine Africain\, Rue de l'Inspection\, Adjina\, P
 orto-Novo\, Bénin
X-APPLE-STRUCTURED-LOCATION;VALUE=URI;X-ADDRESS=Rue de l'Inspection\, Adjin
 a\, Porto-Novo\, Bénin;X-APPLE-RADIUS=100;X-TITLE=L'École du Patrimoine 
 Africain:geo:0,0
END:VEVENT
END:VCALENDAR