BEGIN:VCALENDAR
VERSION:2.0
PRODID:-//wp-events-plugin.com//7.2.3.1//EN
BEGIN:VEVENT
UID:74@culturesetpatrimoines.bj
DTSTART;VALUE=DATE:20231229
DTEND;VALUE=DATE:20231231
DTSTAMP:20231025T084646Z
URL:https://culturesetpatrimoines.bj/evenements/carnaval-kaleta-de-cotonou
 /
SUMMARY:Festival Carnaval Kaléta de Cotonou
DESCRIPTION:\n\nLe festival Carnaval Kaléta de Cotonou\, organisé par l'o
 rganisme Racine et Culture\, se tiendra une fois de plus cette année. Pou
 r cette 5ème édition\, rappelons que l'objectif de ce festival est la va
 lorisation des cultures et des danses endogènes à travers le symbole cul
 turel qu'est le masque Kaléta\, mettant en lumière les cultes et danses 
 des traditions ancestrales originaires du Bénin.\n\nPrenez note de cette 
 date pour ne pas la manquer.
ATTACH;FMTTYPE=image/jpeg:https://culturesetpatrimoines.bj/wp-content/uplo
 ads/2023/10/kaleta.jpg
CATEGORIES:Concert,Culture,Découverte,Exposition
LOCATION:Le Centre\, Le Centre\, Cotonou\, Littoral\, Bénin
X-APPLE-STRUCTURED-LOCATION;VALUE=URI;X-ADDRESS=Le Centre\, Cotonou\, Litto
 ral\, Bénin;X-APPLE-RADIUS=100;X-TITLE=Le Centre:geo:0,0
END:VEVENT
END:VCALENDAR