BEGIN:VCALENDAR
VERSION:2.0
PRODID:-//wp-events-plugin.com//7.2.3.1//EN
BEGIN:VEVENT
UID:128@culturesetpatrimoines.bj
DTSTART;VALUE=DATE:20241204
DTEND;VALUE=DATE:20241209
DTSTAMP:20241106T103513Z
URL:https://culturesetpatrimoines.bj/evenements/carnaval-kaleta/
SUMMARY:Carnaval Kaléta
DESCRIPTION:La 6ème édition du Carnaval Kaléta est lancée et promet enc
 ore des surprises. Les amoureux des danses\, des rythmes traditionnelles e
 t des masques artistiques\, l’occasion vous est encore donnée cette ann
 ée pour profiter de cet événement qui est un événement valorisant de 
 la culture béninoise et de son identité. Prenez le rendez vous à partir
  du 04 décembre 2024 pour du pure divertissement au cœur de notre cultur
 e. \n\nLien pour plus d’informations: Facebook
ATTACH;FMTTYPE=image/jpeg:https://culturesetpatrimoines.bj/wp-content/uplo
 ads/2024/11/WhatsApp-Image-2024-11-04-at-13.56.55.jpeg
CATEGORIES:Carnaval
END:VEVENT
END:VCALENDAR