BEGIN:VCALENDAR
VERSION:2.0
PRODID:-//wp-events-plugin.com//7.2.3.1//EN
BEGIN:VEVENT
UID:264@culturesetpatrimoines.bj
DTSTART:20250319T230000Z
DTEND:20250429T230000Z
DTSTAMP:20250320T153539Z
URL:https://culturesetpatrimoines.bj/evenements/casu-monde/
SUMMARY:CASU-MONDE
DESCRIPTION:Le Championnat d'Arts Scolaire et Universitaire du Monde (CASU-
 MONDE) invite les écoles et universités francophones à participer à un
 e immersion artistique au Bénin\, à Abomey\, du 15 au 21 décembre 2025.
  Envoyez votre dossier de candidature (présentation\, vidéo\, liens\, fi
 che technique\, membres) avant le 30 avril 2025 à anapcabenin@gmail.com
ATTACH;FMTTYPE=image/jpeg:https://culturesetpatrimoines.bj/wp-content/uplo
 ads/2025/03/484964010_678071194666102_2963877435499546049_n.jpg
CATEGORIES:Appel à candidature
END:VEVENT
END:VCALENDAR