BEGIN:VCALENDAR
VERSION:2.0
PRODID:-//wp-events-plugin.com//7.2.3.1//EN
BEGIN:VEVENT
UID:53@culturesetpatrimoines.bj
DTSTART;VALUE=DATE:20230815
DTEND;VALUE=DATE:20230816
DTSTAMP:20230811T183220Z
URL:https://culturesetpatrimoines.bj/evenements/celebration-de-la-fete-de-
 ligname/
SUMMARY:Célébration de la Fête de l'igname
DESCRIPTION:La célébration de la fête de l'igname a lieu le 15 août de 
 chaque année et se concentre sur l'igname et plus spécifiquement celle a
 ppelée « laboco » parce qu'il s'agit de la première variété de tuber
 cules récoltée au cours de la saison.\n\n&nbsp\;\n\n
ATTACH;FMTTYPE=image/jpeg:https://culturesetpatrimoines.bj/wp-content/uplo
 ads/2023/07/938200896795001686926363.jpg
CATEGORIES:Culture
LOCATION:Savalou\, Savalou\, Savalou\, Bénin
X-APPLE-STRUCTURED-LOCATION;VALUE=URI;X-ADDRESS=Savalou\, Savalou\, Bénin;
 X-APPLE-RADIUS=100;X-TITLE=Savalou:geo:0,0
END:VEVENT
END:VCALENDAR