BEGIN:VCALENDAR
VERSION:2.0
PRODID:-//wp-events-plugin.com//7.2.3.1//EN
BEGIN:VEVENT
UID:300@culturesetpatrimoines.bj
DTSTART:20250502T230000Z
DTEND:20250509T230000Z
DTSTAMP:20250430T151807Z
URL:https://culturesetpatrimoines.bj/evenements/cirque-en-fusion/
SUMMARY:CIRQUE EN FUSION!
DESCRIPTION:L'événement incontournable du cirque revient en force ! Cirqu
 e en Fusion s'installe au Palais des Congrès de Cotonou du 3 au 10 mai 20
 25 pour une deuxième édition absolument spectaculaire !\n\nAttendez-vous
  à des spectacles époustouflants\, des scènes ouvertes pleines de surpr
 ises\, des ateliers captivants pour tous les âges\, des opportunités de 
 rencontres professionnelles enrichissantes\, des performances inédites à
  ne pas manquer. Une atmosphère magique\, chaleureuse et pleine de vie vo
 us accueillera !\n\nEt cerise sur le gâteau : le village du cirque vous o
 ffrira les délices des meilleurs restaurants et bars de la ville pour com
 bler toutes vos envies gourmandes pendant toute la durée de l'événement
 .\n\nQue vous soyez un fervent amateur de spectacles\, désireux d'explore
 r le cirque africain sous un nouveau jour\, parent\, adolescent\, artiste\
 , étudiant ou simplement en quête d'une escapade mémorable... Cet évé
 nement est taillé sur mesure pour vous !\n\nPlus d'informations.  Festiva
 l International des Arts du Cirque du Bénin: "Cirque en Fusion" \n\nBill
 etterie  https://faevent.bj/event/cirque-en-fusion-734
ATTACH;FMTTYPE=image/jpeg:https://culturesetpatrimoines.bj/wp-content/uplo
 ads/2025/04/492499892_122126458820759111_6723332648325019100_n.jpg
CATEGORIES:Festival
LOCATION:Palais des Congrès\, Boulevard de la Marina\, Cotonou\, Cotonou\,
  Littoral\, Littoral\, Bénin
X-APPLE-STRUCTURED-LOCATION;VALUE=URI;X-ADDRESS=Boulevard de la Marina\, Co
 tonou\, Cotonou\, Littoral\, Littoral\, Bénin;X-APPLE-RADIUS=100;X-TITLE=
 Palais des Congrès:geo:0,0
END:VEVENT
END:VCALENDAR