BEGIN:VCALENDAR
VERSION:2.0
PRODID:-//wp-events-plugin.com//7.2.3.1//EN
BEGIN:VEVENT
UID:11@culturesetpatrimoines.bj
DTSTART;VALUE=DATE:20221020
DTEND;VALUE=DATE:20221022
DTSTAMP:20221207T221925Z
URL:https://culturesetpatrimoines.bj/evenements/colloque-international-mem
 oires-et-survivances/
SUMMARY:Colloque international « Mémoires et survivances »
DESCRIPTION:\n\nDu 20 au 21 octobre 2022\, Afrique Décide et l’Institut 
 Culturel Africain\, avec le soutien de l’ Ambassade de France au Bénin\
 , organisent un colloque international sur les « Mémoires et survivances
  de la Traite négrière transatlantique en Afrique\, en Europe\, dans les
  Antilles et Caraïbes et autres territoires des océans Atlantique et Ind
 ien » à l’Institut Régional de Santé Publique de Ouidah.\n\nAu progr
 amme : des communications\, des projections de films documentaires\, des d
 ébats\, des témoignages et des visites patrimoniales et touristiques.\n\
 nPrenez le rendez-vous pour ce grand rendez-vous scientifique et culturel.
 \nInfoline : +229 90 50 44 24 ou visitez notre page site web : www.memoire
 setsurvivances.com\n\nhttps://youtu.be/LL1xTGfJ5jE
ATTACH;FMTTYPE=image/jpeg:https://culturesetpatrimoines.bj/wp-content/uplo
 ads/2022/10/colloque.jpg
CATEGORIES:Culture
END:VEVENT
END:VCALENDAR