BEGIN:VCALENDAR
VERSION:2.0
PRODID:-//wp-events-plugin.com//7.2.3.1//EN
BEGIN:VEVENT
UID:27@culturesetpatrimoines.bj
DTSTART:20230325T190000Z
DTEND:20230325T190000Z
DTSTAMP:20230328T152931Z
URL:https://culturesetpatrimoines.bj/evenements/concert-de-slam/
SUMMARY:Concert de Slam live avec Fraubi
DESCRIPTION:\n\nL'Arène du Slam vous présente un concert de slam en live 
 ce Samedi 25 Mars 2023 à 20h pour une soirée riche en émotion et en po
 ésie mélodieuse. Pour plus d’informations consultez le lien ci dessous
 .\n\nLa Grande famille Culturelle
ATTACH;FMTTYPE=image/jpeg:https://culturesetpatrimoines.bj/wp-content/uplo
 ads/2023/03/concert-slam-live.jpg
CATEGORIES:Culture
END:VEVENT
END:VCALENDAR