BEGIN:VCALENDAR
VERSION:2.0
PRODID:-//wp-events-plugin.com//7.2.3.1//EN
BEGIN:VEVENT
UID:89@culturesetpatrimoines.bj
DTSTART:20240417T183000Z
DTEND:20240417T200000Z
DTSTAMP:20240411T190924Z
URL:https://culturesetpatrimoines.bj/evenements/concert-hors-les-murs-avec
 -faty/
SUMMARY:Concert Hors les murs avec Faty
DESCRIPTION:Le mercredi 17 avril 2023\, l'artiste-chateuse Faty sera en con
 cert à l'Université d'Abomey-Calavi à partir de 19h30. L'évènement to
 talement libre aura lieu précisément sur le terrain de Volley-Ball.
ATTACH;FMTTYPE=image/jpeg:https://culturesetpatrimoines.bj/wp-content/uplo
 ads/2024/04/Faty.png
CATEGORIES:Concert
LOCATION:Université d’Abomey-Calavi (UAC)\, Université d’Abomey-Calav
 i\, Abomey-Calavi\, Bénin\, Atlantique\, Bénin
X-APPLE-STRUCTURED-LOCATION;VALUE=URI;X-ADDRESS=Université d’Abomey-Cala
 vi\, Abomey-Calavi\, Bénin\, Atlantique\, Bénin;X-APPLE-RADIUS=100;X-TIT
 LE=Université d’Abomey-Calavi (UAC):geo:0,0
END:VEVENT
END:VCALENDAR