BEGIN:VCALENDAR
VERSION:2.0
PRODID:-//wp-events-plugin.com//7.2.3.1//EN
BEGIN:VEVENT
UID:246@culturesetpatrimoines.bj
DTSTART:20250228T193000Z
DTEND:20250228T193000Z
DTSTAMP:20250228T163233Z
URL:https://culturesetpatrimoines.bj/evenements/concert-les-teriba-au-fina
 b/
SUMMARY:Concert : Les Teriba au FINAB
DESCRIPTION:Rendez-vous ce vendredi 28 février pour un concert inoubliable
 . Les Teriba seront sur la scène du FINAB à partir de 20h30. Ambiance ga
 rantie!
ATTACH;FMTTYPE=image/jpeg:https://culturesetpatrimoines.bj/wp-content/uplo
 ads/2025/02/481867425_18497072695025440_8116262026604160605_n.jpg
CATEGORIES:Concert
LOCATION:Palais des Congrès\, Boulevard de la Marina\, Cotonou\, Cotonou\,
  Littoral\, Littoral\, Bénin
X-APPLE-STRUCTURED-LOCATION;VALUE=URI;X-ADDRESS=Boulevard de la Marina\, Co
 tonou\, Cotonou\, Littoral\, Littoral\, Bénin;X-APPLE-RADIUS=100;X-TITLE=
 Palais des Congrès:geo:0,0
END:VEVENT
END:VCALENDAR