BEGIN:VCALENDAR
VERSION:2.0
PRODID:-//wp-events-plugin.com//7.2.3.1//EN
BEGIN:VEVENT
UID:268@culturesetpatrimoines.bj
DTSTART:20250426T200000Z
DTEND:20250426T200000Z
DTSTAMP:20250328T012945Z
URL:https://culturesetpatrimoines.bj/evenements/concert-live-jaures-houeze
 /
SUMMARY:CONCERT LIVE : Jaurès HOUEZE
DESCRIPTION:Artiste musicien percussionniste\, Jaurès HOUEZE a partagé la
  scène avec plusieurs artistes internationaux et locaux. Il vous donne re
 ndez-vous le 26 avril 2025 à partir de 21h à Africa sound city pour son 
 concert live.
ATTACH;FMTTYPE=image/jpeg:https://culturesetpatrimoines.bj/wp-content/uplo
 ads/2025/03/481303565_9364016857028192_658224422271104289_n.jpg
CATEGORIES:Concert
LOCATION:Africa Sound city\, Rue en face de la pharmacie KINDONOU\, cotonou
 \, Littoral\, Bénin\, Bénin
X-APPLE-STRUCTURED-LOCATION;VALUE=URI;X-ADDRESS=Rue en face de la pharmacie
  KINDONOU\, cotonou\, Littoral\, Bénin\, Bénin;X-APPLE-RADIUS=100;X-TITL
 E=Africa Sound city:geo:0,0
END:VEVENT
END:VCALENDAR