BEGIN:VCALENDAR
VERSION:2.0
PRODID:-//wp-events-plugin.com//7.2.3.1//EN
BEGIN:VEVENT
UID:211@culturesetpatrimoines.bj
DTSTART:20250215T193000Z
DTEND:20250215T210000Z
DTSTAMP:20250211T181531Z
URL:https://culturesetpatrimoines.bj/evenements/concert-soyoyo/
SUMMARY:Concert Soyoyo
DESCRIPTION:Le grand Robinson SIPA est de retour sur scène pour vous empor
 ter avec ses mélodies. Cet artiste hors pair vous prépare un show inoubl
 iable à l'institut français de Parakou le samedi 15 février à 20h30. N
 e ratez pas surtout ce rendez vous inédit.\n\n&nbsp\;
ATTACH;FMTTYPE=image/jpeg:https://culturesetpatrimoines.bj/wp-content/uplo
 ads/2025/02/476182183_938549675140493_8192084703381406480_n.jpg
CATEGORIES:Concert
LOCATION:Institut Français de Parakou\, Ladjifarani\, Parakou\, Parakou\, 
 Bénin\, Borgou\, Bénin
X-APPLE-STRUCTURED-LOCATION;VALUE=URI;X-ADDRESS=Ladjifarani\, Parakou\, Par
 akou\, Bénin\, Borgou\, Bénin;X-APPLE-RADIUS=100;X-TITLE=Institut Franç
 ais de Parakou:geo:0,0
END:VEVENT
END:VCALENDAR