BEGIN:VCALENDAR
VERSION:2.0
PRODID:-//wp-events-plugin.com//7.2.3.1//EN
BEGIN:VEVENT
UID:224@culturesetpatrimoines.bj
DTSTART;VALUE=DATE:20250222
DTEND;VALUE=DATE:20250223
DTSTAMP:20250217T172651Z
URL:https://culturesetpatrimoines.bj/evenements/conges-de-detente-ludique/
SUMMARY:Congés de détente ludique
DESCRIPTION:Chers tous\,\n\nC’est bientôt les congés de détente et vou
 s ne savez pas comment occuper vos enfants? Voici pour vous! Un programme 
 d’activité de vacances élaboré par Bénin excellence pour amuser vos 
 petits et aussi les instruire. Une occasion parfaite à partager en famill
 e et même entre amis.\n\nEnsemble\, passons autrement les vacances !\n\nL
 E LIEN: Facebook
ATTACH;FMTTYPE=image/jpeg:https://culturesetpatrimoines.bj/wp-content/uplo
 ads/2025/02/480581754_970317778526220_527947306579674308_n.jpg
CATEGORIES:Découverte
LOCATION:Benin Excellence\, C87P+858\, Godomey\, Atlantique\, Bénin
X-APPLE-STRUCTURED-LOCATION;VALUE=URI;X-ADDRESS=C87P+858\, Godomey\, Atlant
 ique\, Bénin;X-APPLE-RADIUS=100;X-TITLE=Benin Excellence:geo:0,0
END:VEVENT
END:VCALENDAR