BEGIN:VCALENDAR
VERSION:2.0
PRODID:-//wp-events-plugin.com//7.2.3.1//EN
BEGIN:VEVENT
UID:164@culturesetpatrimoines.bj
DTSTART:20250105T230000Z
DTEND:20250117T230000Z
DTSTAMP:20250115T114315Z
URL:https://culturesetpatrimoines.bj/evenements/congres-international-de-t
 herapie-par-les-arts-reinventer-son-bien-etre/
SUMMARY:Congrès international de thérapie par les arts : Réinventer son 
 bien-être!
DESCRIPTION:Du 6 au 18 janvier 2025 à Porto - Novo et Cotonou\, découvrez
  comment les arts\npeuvent transformer le bien-être et améliorer la sant
 é mentale. Cette rencontre artistique\ndu bien-être a commencé et suit 
 son cours. Au programme il y aura des conférences\,\ndes ateliers pratiqu
 es\, des expositions et des performances artistiques. Vivez une\npériode 
 pleine à travers ce congrès.\nhttps://lnkd.in/dTGMXzAi\nDates : 6 au 18 
 janvier 2025\nLieu : Porto-Novo et Cotonou
ATTACH;FMTTYPE=image/jpeg:https://culturesetpatrimoines.bj/wp-content/uplo
 ads/2025/01/473740988_18014348681674436_4994102438601663309_n.jpg
CATEGORIES:Formation
END:VEVENT
END:VCALENDAR