BEGIN:VCALENDAR
VERSION:2.0
PRODID:-//wp-events-plugin.com//7.2.3.1//EN
BEGIN:VEVENT
UID:10@culturesetpatrimoines.bj
DTSTART;VALUE=DATE:20220929
DTEND;VALUE=DATE:20221003
DTSTAMP:20221207T221909Z
URL:https://culturesetpatrimoines.bj/evenements/cotonou-gallery-week-end/
SUMMARY:Cotonou Gallery Week End
DESCRIPTION:[embed]https://youtu.be/1HnG5vd_ja8[/embed]
ATTACH;FMTTYPE=image/jpeg:https://culturesetpatrimoines.bj/wp-content/uplo
 ads/2022/09/vlcsnap-2022-09-30-21h21m42s483.png
CATEGORIES:Culture
END:VEVENT
END:VCALENDAR