BEGIN:VCALENDAR
VERSION:2.0
PRODID:-//wp-events-plugin.com//7.2.3.1//EN
BEGIN:VEVENT
UID:219@culturesetpatrimoines.bj
DTSTART:20250219T230000Z
DTEND:20250223T230000Z
DTSTAMP:20250213T153027Z
URL:https://culturesetpatrimoines.bj/evenements/dowart-2025-biennale-inter
 nationale-de-performance-dart/
SUMMARY:DOW'ART 2025 : Biennale Internationale de Performance d'Art
DESCRIPTION:Du 20 au 24 février\, la ville de Porto-Novo accueillera la Bi
 ennale Internationale de Performance d'Art DOW'ART 2025. L'événement se 
 déroule à l'Espace Kiffouly.
ATTACH;FMTTYPE=image/jpeg:https://culturesetpatrimoines.bj/wp-content/uplo
 ads/2025/02/WhatsApp-Image-2025-02-13-at-14.45.11-1.jpeg
CATEGORIES:Festival
END:VEVENT
END:VCALENDAR