BEGIN:VCALENDAR
VERSION:2.0
PRODID:-//wp-events-plugin.com//7.2.3.1//EN
BEGIN:VEVENT
UID:14@culturesetpatrimoines.bj
DTSTART;VALUE=DATE:20221202
DTEND;VALUE=DATE:20221224
DTSTAMP:20221207T222015Z
URL:https://culturesetpatrimoines.bj/evenements/eco-benin-exposition-photo
 graphique/
SUMMARY:ECO BENIN : Exposition Photographique
DESCRIPTION:Du 02 au 23 Décembre 2022\, l’ ONG Eco bénin présentera le
  tome 2 de Ouidah &amp\; Héritage\; une exposition photographique à la r
 encontre des détenteurs du patrimoine. Cette exposition offre alors la po
 ssibilité au grand public de découvrir les merveilles touristiques et ar
 tistiques stockées à Ouidah.
ATTACH;FMTTYPE=image/jpeg:https://culturesetpatrimoines.bj/wp-content/uplo
 ads/2022/11/eco2.png
CATEGORIES:Culture
END:VEVENT
END:VCALENDAR