BEGIN:VCALENDAR
VERSION:2.0
PRODID:-//wp-events-plugin.com//7.2.3.1//EN
BEGIN:VEVENT
UID:13@culturesetpatrimoines.bj
DTSTART;VALUE=DATE:20221127
DTEND;VALUE=DATE:20221130
DTSTAMP:20221207T221958Z
URL:https://culturesetpatrimoines.bj/evenements/eco-benin/
SUMMARY:West Africa Ecotourism Network
DESCRIPTION:Suivons avec nos partenaires Eco Bénin\, le lancement du West 
 Africa Ecotourism Network (WAEN)\, qui se déroulera du 27 au 29 novembre 
 2022 au Ghana. Un réseau des acteurs éco touristes qui s’engage dans l
 a compréhension et le bien être de l'écotourisme dans la région Ouest 
 Afrique du monde. Une inscription est rendue possible par ce lien \;\n\nht
 tp://www.westafricaecotourism.network/ .\n\nVisitez le lien ci dessous pou
 r mieux vous imprégner des actions de cet Organisme à propos de ce lance
 ment \;\n\necotourismebenin | Facebook
ATTACH;FMTTYPE=image/jpeg:https://culturesetpatrimoines.bj/wp-content/uplo
 ads/2022/11/eco.png
CATEGORIES:Culture
END:VEVENT
END:VCALENDAR