BEGIN:VCALENDAR
VERSION:2.0
PRODID:-//wp-events-plugin.com//7.2.3.1//EN
BEGIN:VEVENT
UID:136@culturesetpatrimoines.bj
DTSTART:20241120T230000Z
DTEND:20250214T230000Z
DTSTAMP:20241120T110413Z
URL:https://culturesetpatrimoines.bj/evenements/exposition-collective-la-d
 eesse/
SUMMARY:Exposition collective : “La Déesse”
DESCRIPTION:L’Espace culturel Le Centre serait heureux de vous compter pa
 rmi ces nombreux convives pour charmer cette Exposition collective. Ce ver
 nissage qui débute le 21 Novembre 2024 rassemblera une grande diversité 
 d'œuvres d’acteurs de la sculpture et de la peinture. De belles œuvres
  autant artistiques que spectaculaires.  L’Exposition Collective “La 
 Déesse” est conçue pour mettre à l’honneur la valeur de la femme et
  ceux dans un contexte contemporain. Prenez date et venez passer une soir
 ée artistique.\n\nLien: Exposition collective | « La Déesse »... - Esp
 ace Culturel Le Centre | Facebook\n\n&nbsp\;
ATTACH;FMTTYPE=image/jpeg:https://culturesetpatrimoines.bj/wp-content/uplo
 ads/2024/11/466416100_890220033303229_3059155090371542366_n.jpg
CATEGORIES:Exposition
LOCATION:Espace Culturel Le Centre\, Le Centre\, Rue du collège ‘‘La P
 lénitude’’\, Quartier Lobozounkpa\, Godomey (Zone PK14)  \, Abomey-Ca
 lavi\,\, Atlantique\, Bénin\, Bénin
X-APPLE-STRUCTURED-LOCATION;VALUE=URI;X-ADDRESS=Le Centre\, Rue du collège
  ‘‘La Plénitude’’\, Quartier Lobozounkpa\, Godomey (Zone PK14)  \
 , Abomey-Calavi\,\, Atlantique\, Bénin\, Bénin;X-APPLE-RADIUS=100;X-TITL
 E=Espace Culturel Le Centre:geo:0,0
END:VEVENT
END:VCALENDAR