BEGIN:VCALENDAR
VERSION:2.0
PRODID:-//wp-events-plugin.com//7.2.3.1//EN
BEGIN:VEVENT
UID:249@culturesetpatrimoines.bj
DTSTART;VALUE=DATE:20250307
DTEND;VALUE=DATE:20250508
DTSTAMP:20250305T091349Z
URL:https://culturesetpatrimoines.bj/evenements/exposition-individuelle-me
 moires-enchassees/
SUMMARY:Exposition individuelle: Mémoires Enchâssées
DESCRIPTION:Tam Tam Restaurant et Raplam ont l'honneur de vous inviter à l
 'inauguration de l'exposition personnelle « Mémoires enchâssées » de 
 la plasticienne Anne-Marie Akplogan le jeudi 13 mars 2025\, dès 18h30.« 
 Mémoires enchâssées » offre une analyse anthropologique de l'évolutio
 n des humanités\, des liens qui nous rattachent à notre identité et de 
 la complexité inhérente à l'élaboration d'une mémoire variée.\n\n« 
 Troubles Exquis » sera le titre du happening d'Anne-Marie Akplogan qui ou
 vrira ce vernissage.\n\nRAPlaM | Facebook
ATTACH;FMTTYPE=image/jpeg:https://culturesetpatrimoines.bj/wp-content/uplo
 ads/2025/03/481235973_1019561830221110_4807507547276980641_n-Copie.jpg
CATEGORIES:Découverte,Exposition
END:VEVENT
END:VCALENDAR