BEGIN:VCALENDAR
VERSION:2.0
PRODID:-//wp-events-plugin.com//7.2.3.1//EN
BEGIN:VEVENT
UID:209@culturesetpatrimoines.bj
DTSTART;VALUE=DATE:20250213
DTEND;VALUE=DATE:20250406
DTSTAMP:20250211T174500Z
URL:https://culturesetpatrimoines.bj/evenements/exposition-meteorologies-i
 nterieures/
SUMMARY:Exposition "Météorologies intérieures"
DESCRIPTION:L'Espace TCarmine\, une galerie située à Genève\, a le bonhe
 ur de vous inviter le 13 février prochain à 18h à explorer l'exposition
  « Météorologies intérieures » présentée par l'artiste Pierre Olivi
 er Barman. Ses œuvres sont inspirées par le Lac Léman\, les montagnes e
 t le ciel\, mais ici\, on n'y trouve pas de paysage traditionnel ! Uniquem
 ent des teintes\, des éclairages et des atmosphères qui nous immergent d
 ans un univers entre rêve et réalité.
ATTACH;FMTTYPE=image/jpeg:https://culturesetpatrimoines.bj/wp-content/uplo
 ads/2025/02/476623230_943369907926991_1781843146170786571_n.jpg
CATEGORIES:Découverte,Exposition
END:VEVENT
END:VCALENDAR