BEGIN:VCALENDAR
VERSION:2.0
PRODID:-//wp-events-plugin.com//7.2.3.1//EN
BEGIN:VEVENT
UID:82@culturesetpatrimoines.bj
DTSTART;VALUE=DATE:20240216
DTEND;VALUE=DATE:20240310
DTSTAMP:20240220T190340Z
URL:https://culturesetpatrimoines.bj/evenements/exposition-vernissage-a-li
 nstitut-francais-du-benin-akpe-par-remy-samuz/
SUMMARY:Exposition vernissage à l’institut français du Bénin:  Akpé p
 ar Rémy Samuz
DESCRIPTION:L'exposition s'appelle "Akpé"\, ce qui signifie "Merci" en lan
 gue Mina. C'est une manière simple pour l'artiste de témoigner sa gratit
 ude envers ceux qui ont aimé son travail artistique.\n\nAvec une expérie
 nce de plus de 10 ans \, Remy Samuz raconte des histoires\, dépeint le qu
 otidien\, explore les pensées et les personnalités\, tout en donnant for
 me et voix à ses idées à travers un tissage de fil de fer\, une façon 
 pour lui d'exprimer son art.\n\nNe vous faites pas manqué cette expositio
 n qui se poursuit jusqu’aux 09 mars 2024.
ATTACH;FMTTYPE=image/jpeg:https://culturesetpatrimoines.bj/wp-content/uplo
 ads/2024/02/expo.jpg
CATEGORIES:Exposition
END:VEVENT
END:VCALENDAR