BEGIN:VCALENDAR
VERSION:2.0
PRODID:-//wp-events-plugin.com//7.2.3.1//EN
BEGIN:VEVENT
UID:121@culturesetpatrimoines.bj
DTSTART;VALUE=DATE:20241021
DTEND;VALUE=DATE:20241027
DTSTAMP:20241021T160603Z
URL:https://culturesetpatrimoines.bj/evenements/fdac-fonds-de-developpemen
 t-des-arts-et-de-la-culture/
SUMMARY:FDAC / Fonds de Développement des Arts et de la Culture
DESCRIPTION:L'ADAC en collaboration avec le ministère du tourisme\, de la 
 culture et des arts et le CNOA\, organisent des sessions d'information sur
  l'appel à projets du Fonds de Développement des  Arts et de la Culture
  dans tous les départements du Bénin.  Créateurs\, producteurs ou diff
 useurs\, l’opportunité vous est maintenant donné pour mieux comprendre
  l’appel à projet et ainsi faire valoir votre art.\n\nPrenez le rendez 
 pour maximiser vos chances du 21 au 26 octobre 2024.\n\nPour plus d’info
 rmation cliquer le lien ci dessous:\n\nFacebook
ATTACH;FMTTYPE=image/jpeg:https://culturesetpatrimoines.bj/wp-content/uplo
 ads/2024/10/463979593_850267423962783_5916496137285285534_n.jpg
CATEGORIES:Formation
LOCATION:ADAC\, Fidjrossè\, Route des pêches\, Immeuble blanc après la s
 tation JNP \, cotonou\, Littoral\, Bénin
X-APPLE-STRUCTURED-LOCATION;VALUE=URI;X-ADDRESS=Fidjrossè\, Route des pêc
 hes\, Immeuble blanc après la station JNP \, cotonou\, Littoral\, Bénin;
 X-APPLE-RADIUS=100;X-TITLE=ADAC:geo:0,0
END:VEVENT
END:VCALENDAR