BEGIN:VCALENDAR
VERSION:2.0
PRODID:-//wp-events-plugin.com//7.2.3.1//EN
BEGIN:VEVENT
UID:24@culturesetpatrimoines.bj
DTSTART;VALUE=DATE:20230225
DTEND;VALUE=DATE:20230305
DTSTAMP:20230224T164703Z
URL:https://culturesetpatrimoines.bj/evenements/fespaco-2023/
SUMMARY:FESPACO 2023
DESCRIPTION:\n\nDu 25 février au 04 mars 2023\, vivez la 28e édition du F
 estival panafricain du cinéma et de la télévision de Ouagadougou (FESPA
 CO). Prévue sous le thème « Cinémas d’Afrique et culture de la paix 
 »\, cette édition\, comme les précédentes\, sera nourrie par de nombre
 uses activités dont la projection des 170 films retenus. Vous pouvez avoi
 r plus d’information sur le lien ci-dessous.\n\nSite officiel du Fespaco
ATTACH;FMTTYPE=image/jpeg:https://culturesetpatrimoines.bj/wp-content/uplo
 ads/2023/02/Fespaco2023-scaled.jpg
CATEGORIES:Culture
LOCATION:Ouagadougou\, Ouagadougou\, Ouagadougou\, Burkina Faso
X-APPLE-STRUCTURED-LOCATION;VALUE=URI;X-ADDRESS=Ouagadougou\, Ouagadougou\,
  Burkina Faso;X-APPLE-RADIUS=100;X-TITLE=Ouagadougou:geo:0,0
END:VEVENT
END:VCALENDAR