BEGIN:VCALENDAR
VERSION:2.0
PRODID:-//wp-events-plugin.com//7.2.3.1//EN
BEGIN:VEVENT
UID:139@culturesetpatrimoines.bj
DTSTART:20241127T230000Z
DTEND:20241129T230000Z
DTSTAMP:20241128T110844Z
URL:https://culturesetpatrimoines.bj/evenements/festival-besen-mi/
SUMMARY:Festival BESEN MI
DESCRIPTION:Plongez dans la richesse culturelle du nord du Bénin lors du f
 estival BESEN MI\, une célébration de trois jours de danse nationale\, d
 éfilé de mode\, théâtre\, marionnette\, musique et exposition d'art. 
   \n\nDates : 28-29-30 novembre 2024\n\nLieu : Musée plein air de Parako
 u 
ATTACH;FMTTYPE=image/jpeg:https://culturesetpatrimoines.bj/wp-content/uplo
 ads/2024/11/465715403_534919616069154_1694262161768934711_n.jpg
CATEGORIES:Festival
LOCATION:Musée plein air de Parakou\, Musée d'ethnographie Sinangourou BP
 :882 · 97 12 71 99\, Parakou\, Bénin\, Borgou\, Bénin
X-APPLE-STRUCTURED-LOCATION;VALUE=URI;X-ADDRESS=Musée d'ethnographie Sinan
 gourou BP:882 · 97 12 71 99\, Parakou\, Bénin\, Borgou\, Bénin;X-APPLE-
 RADIUS=100;X-TITLE=Musée plein air de Parakou:geo:0,0
END:VEVENT
END:VCALENDAR