BEGIN:VCALENDAR
VERSION:2.0
PRODID:-//wp-events-plugin.com//7.2.3.1//EN
BEGIN:VEVENT
UID:252@culturesetpatrimoines.bj
DTSTART:20250416T230000Z
DTEND:20250420T230000Z
DTSTAMP:20250306T123847Z
URL:https://culturesetpatrimoines.bj/evenements/festival-des-arts-et-cultu
 res-de-sinende/
SUMMARY:FESTIVAL DES ARTS ET CULTURES DE SINENDÉ
DESCRIPTION:Du 17 au 21 avril 2025\, Sinendé s'anime au rythme de la cultu
 re ! Sous le thème « La culture : pilier du développement durable et du
  vivre-ensemble »\, venez découvrir un événement riche en couleurs et 
 en émotions. Au programme: foire artisanale et gastronomique\, conférenc
 es thématiques\, spectacles de musique et de danse\, expositions d'art\, 
 ateliers de formation\, randonnées touristiques. \n\nNe manquez pas cett
 e célébration unique du patrimoine culturel !\n\n&nbsp\;
ATTACH;FMTTYPE=image/jpeg:https://culturesetpatrimoines.bj/wp-content/uplo
 ads/2025/03/481082443_122222627816233895_5974251800530701623_n.jpg
CATEGORIES:Festival
END:VEVENT
END:VCALENDAR