BEGIN:VCALENDAR
VERSION:2.0
PRODID:-//wp-events-plugin.com//7.2.3.1//EN
BEGIN:VEVENT
UID:200@culturesetpatrimoines.bj
DTSTART:20250201T170000Z
DTEND:20250201T170000Z
DTSTAMP:20250130T114309Z
URL:https://culturesetpatrimoines.bj/evenements/finissage-la-magoa-de-la-c
 ruz/
SUMMARY:Finissage : La Magoa de la cruz
DESCRIPTION:Dernière chance de vous immerger dans l'univers de Patricio Ca
 stilla ! Rendez-vous le 1er février à 18h00 à la Galerie TCarmine pour 
 une soirée exceptionnelle. Découvrez ses peintures à l'huile où la mer
  et la lumière se rencontrent\, et échangez avec l'artiste sur son trava
 il et ses inspirations.
ATTACH;FMTTYPE=image/jpeg:https://culturesetpatrimoines.bj/wp-content/uplo
 ads/2025/01/475318859_936582265272422_704792996839742930_n.jpg
CATEGORIES:Exposition
LOCATION:Galerie TCarmine\, 10 rue des Maraîchers Genève\, Genève\, Suis
 se
X-APPLE-STRUCTURED-LOCATION;VALUE=URI;X-ADDRESS=10 rue des Maraîchers Gen
 ève\, Genève\, Suisse;X-APPLE-RADIUS=100;X-TITLE=Galerie TCarmine:geo:0,
 0
END:VEVENT
END:VCALENDAR