BEGIN:VCALENDAR
VERSION:2.0
PRODID:-//wp-events-plugin.com//7.2.3.1//EN
BEGIN:VEVENT
UID:101@culturesetpatrimoines.bj
DTSTART:20240803T230000Z
DTEND:20240817T230000Z
DTSTAMP:20240726T145858Z
URL:https://culturesetpatrimoines.bj/evenements/gwadjaka-edition-4-le-plus
 -grand-festival-benin-guadeloupe-sur-les-jeux-traditionnels-et-ancestraux/
SUMMARY:GWADJAKA Edition 4\, le plus grand festival Bénin-Guadeloupe sur l
 es jeux traditionnels et ancestraux.
DESCRIPTION:Le festival Gwadjaka est un festival qui met en lumière les je
 ux de nos ancêtres des Caraïbes et du Bénin. Principalement conçu pour
  valoriser ces jeux ancestraux\, le festival Gwadjaka permet aussi de tran
 smettre ces anciennes animations aux jeunes générations et donner goût 
 aux jeunes apprenants. Cette année ce festival revient pour une nouvelle 
 édition pour raviver les cœurs des participants et faire perpétuer les 
 jeux traditionnels.\n\nPrenez rendez vous du 04 au 18 Août 2024 pour déc
 ouvrir en vous amusant.
ATTACH;FMTTYPE=image/jpeg:https://culturesetpatrimoines.bj/wp-content/uplo
 ads/2024/07/PHOTO-2024-07-26-09-40-21-1.jpg
CATEGORIES:Culture,Jeu
END:VEVENT
END:VCALENDAR