BEGIN:VCALENDAR
VERSION:2.0
PRODID:-//wp-events-plugin.com//7.2.3.1//EN
BEGIN:VEVENT
UID:218@culturesetpatrimoines.bj
DTSTART:20250221T080000Z
DTEND:20250221T080000Z
DTSTAMP:20250213T152630Z
URL:https://culturesetpatrimoines.bj/evenements/journee-internationale-des
 -langues-maternelles/
SUMMARY:Journée Internationale des langues maternelles
DESCRIPTION:À l'occasion de la Journée Internationale des Langues Materne
 lles\, IamYourclounon\, Africa Design School\, le Bureau des Étudiants de
  Sèmè City et Icom Bénin vous invitent à une journée exceptionnelle d
 'exploration et de célébration.\n\nLe 21 février 2025\, à partir de 9h
 00\, Sèmè One accueillera des rencontres-discussions et un atelier créa
 tif axés sur l'impact de nos langues sur le tourisme\, l'entrepreneuriat\
 , le design et d'autres domaines. Une occasion unique de réfléchir ensem
 ble sur la richesse de notre patrimoine linguistique. Inscription en ligne
 .
ATTACH;FMTTYPE=image/jpeg:https://culturesetpatrimoines.bj/wp-content/uplo
 ads/2025/02/WhatsApp-Image-2025-02-13-at-14.45.11.jpeg
CATEGORIES:Culture
LOCATION:Sèmè City\, Fidjrosse Immeuble Sèmè One (En face de l’école
  Montaigne) Cotonou\, Bénin\, cotonou\, Littoral\, Bénin\, Bénin
X-APPLE-STRUCTURED-LOCATION;VALUE=URI;X-ADDRESS=Fidjrosse Immeuble Sèmè O
 ne (En face de l’école Montaigne) Cotonou\, Bénin\, cotonou\, Littoral
 \, Bénin\, Bénin;X-APPLE-RADIUS=100;X-TITLE=Sèmè City:geo:0,0
END:VEVENT
END:VCALENDAR