BEGIN:VCALENDAR
VERSION:2.0
PRODID:-//wp-events-plugin.com//7.2.3.1//EN
BEGIN:VEVENT
UID:148@culturesetpatrimoines.bj
DTSTART:20241206T190000Z
DTEND:20241206T190000Z
DTSTAMP:20241205T161343Z
URL:https://culturesetpatrimoines.bj/evenements/kobourou-fashion-days-11/
SUMMARY:Kobourou Fashion Days 11
DESCRIPTION:La mode identitaire s'invite à Parakou ! Ne manquez pas la com
 pétition EXPLOZ TON TALENT des Kobourou Fashion Days 11. Découvrez les t
 alents de la jeune création béninoise et soutenez votre favori pour remp
 orter la machine à coudre. Rendez-vous ce vendredi 6 décembre 2024 à 20
 h à l'Institut français de Parakou. 
ATTACH;FMTTYPE=image/jpeg:https://culturesetpatrimoines.bj/wp-content/uplo
 ads/2024/12/469139944_894212092907585_4104234856075491980_n.jpg
CATEGORIES:Concours
LOCATION:Institut Français de Parakou\, Ladjifarani\, Parakou\, Parakou\, 
 Bénin\, Borgou\, Bénin
X-APPLE-STRUCTURED-LOCATION;VALUE=URI;X-ADDRESS=Ladjifarani\, Parakou\, Par
 akou\, Bénin\, Borgou\, Bénin;X-APPLE-RADIUS=100;X-TITLE=Institut Franç
 ais de Parakou:geo:0,0
END:VEVENT
END:VCALENDAR