BEGIN:VCALENDAR
VERSION:2.0
PRODID:-//wp-events-plugin.com//7.2.3.1//EN
BEGIN:VEVENT
UID:38@culturesetpatrimoines.bj
DTSTART:20230505T190000Z
DTEND:20230505T210000Z
DTSTAMP:20230503T143909Z
URL:https://culturesetpatrimoines.bj/evenements/la-canne-du-roi-en-project
 ion-a-le-centre/
SUMMARY:« La Canne du Roi » en projection à Le Centre
DESCRIPTION:\n\nÀ l'occasion du deuxième anniversaire du programme Wà Ci
 néma\, notre partenaire l'espace culturel Le Centre re-programme dans ses
  locaux pour ce 05 mai 2023\, la projection du film « La Canne du Roi ».
  Ce long métrage réalisé au Bénin par Reilinght Tchobo raconte les lut
 tes pour le pouvoir dans l'ancien royaume du Danxomè et met un accent pa
 rticulier sur la récade\, symbole de pouvoir.  Ne manquez pas ce rendez-
 vous prévu pour 20 heures précises.\n\nPlus d'information sur le site du
  centre culturel Le Centre
ATTACH;FMTTYPE=image/jpeg:https://culturesetpatrimoines.bj/wp-content/uplo
 ads/2023/05/Wa-cinema-La-Canne-du-Roi_2023-04-26-204523_urtk.jpg
CATEGORIES:Projection
LOCATION:Le Centre\, Le Centre\, Cotonou\, Littoral\, Bénin
X-APPLE-STRUCTURED-LOCATION;VALUE=URI;X-ADDRESS=Le Centre\, Cotonou\, Litto
 ral\, Bénin;X-APPLE-RADIUS=100;X-TITLE=Le Centre:geo:0,0
END:VEVENT
END:VCALENDAR