BEGIN:VCALENDAR
VERSION:2.0
PRODID:-//wp-events-plugin.com//7.2.3.1//EN
BEGIN:VEVENT
UID:187@culturesetpatrimoines.bj
DTSTART:20250130T140000Z
DTEND:20250130T180000Z
DTSTAMP:20250121T172752Z
URL:https://culturesetpatrimoines.bj/evenements/le-jeudi-des-arts/
SUMMARY:Le Jeudi des Arts
DESCRIPTION:Le jeudi des Arts organisé par l’ADAC est de retour pour l
 ’édition 3 autour du thème “Quelles stratégies pour la promotion de
 s arts vivants à l’échelle nationale et internationale? Chers artistes
  et professionnels\, venez échanger\, partager vos idées et découvrir l
 es nouvelles opportunités pour le secteur le 30 janvier à 15h à Cotonou
 . \n\nFaites votre inscription en cliquant sur ce lien: https://tally.so/
 r/w8ADLz
ATTACH;FMTTYPE=image/jpeg:https://culturesetpatrimoines.bj/wp-content/uplo
 ads/2025/01/472071447_18014965793674436_1998012754417980941_n.jpg
CATEGORIES:Master class
LOCATION:ADAC\, Fidjrossè\, Route des pêches\, Immeuble blanc après la s
 tation JNP \, cotonou\, Littoral\, Bénin
X-APPLE-STRUCTURED-LOCATION;VALUE=URI;X-ADDRESS=Fidjrossè\, Route des pêc
 hes\, Immeuble blanc après la station JNP \, cotonou\, Littoral\, Bénin;
 X-APPLE-RADIUS=100;X-TITLE=ADAC:geo:0,0
END:VEVENT
END:VCALENDAR