BEGIN:VCALENDAR
VERSION:2.0
PRODID:-//wp-events-plugin.com//7.2.3.1//EN
BEGIN:VEVENT
UID:281@culturesetpatrimoines.bj
DTSTART:20250418T183000Z
DTEND:20250418T183000Z
DTSTAMP:20250410T123153Z
URL:https://culturesetpatrimoines.bj/evenements/le-trone-de-behanzin-2/
SUMMARY:LE TRÔNE DE BEHANZIN
DESCRIPTION:C’est reparti!!!\n\nUn spectacle vivant comme on en a jamais 
 vu au Bénin! \n\nDécouvrez un spectacle vivant d'une ampleur inédite a
 u Bénin\, une représentation à ne surtout pas manquer. Une nouvelle rep
 résentation le 18 Avril au Palais des congrès de la comédie musicale Le
  Trône de BEHANZIN.\n\nLien d’achat en ligne : www.letronedebehanzin.bj
   
ATTACH;FMTTYPE=image/jpeg:https://culturesetpatrimoines.bj/wp-content/uplo
 ads/2025/04/483525793_122210692790183559_5464001894521791687_n.jpg
CATEGORIES:Spectacle
LOCATION:Palais des Congrès\, Boulevard de la Marina\, Cotonou\, Cotonou\,
  Littoral\, Littoral\, Bénin
X-APPLE-STRUCTURED-LOCATION;VALUE=URI;X-ADDRESS=Boulevard de la Marina\, Co
 tonou\, Cotonou\, Littoral\, Littoral\, Bénin;X-APPLE-RADIUS=100;X-TITLE=
 Palais des Congrès:geo:0,0
END:VEVENT
END:VCALENDAR