BEGIN:VCALENDAR
VERSION:2.0
PRODID:-//wp-events-plugin.com//7.2.3.1//EN
BEGIN:VEVENT
UID:175@culturesetpatrimoines.bj
DTSTART:20250119T180000Z
DTEND:20250119T180000Z
DTSTAMP:20250115T183604Z
URL:https://culturesetpatrimoines.bj/evenements/le-trone-de-behanzin/
SUMMARY:Le trône de BEHANZIN
DESCRIPTION:Rendez-vous à la Place Migan ce dimanche 19 janvier à Porto-N
 ovo !\n\nDon Metok et sa troupe vous offrent un spectacle exceptionnel (ac
 teurs\, danseurs\, chanteurs) dans le cadre du Festival Porto Nomad.\n\nEn
 trée gratuite !\n\nInfos : +229 41 82 55 60
ATTACH;FMTTYPE=image/jpeg:https://culturesetpatrimoines.bj/wp-content/uplo
 ads/2025/01/473762859_1142902783870660_169550333991729655_n.jpg
CATEGORIES:Spectacle
END:VEVENT
END:VCALENDAR