BEGIN:VCALENDAR
VERSION:2.0
PRODID:-//wp-events-plugin.com//7.2.3.1//EN
BEGIN:VEVENT
UID:154@culturesetpatrimoines.bj
DTSTART:20241216T230000Z
DTEND:20241220T230000Z
DTSTAMP:20241216T180606Z
URL:https://culturesetpatrimoines.bj/evenements/le-village-des-amazones-ph
 otographes-dafrique-vapart/
SUMMARY:Le Village des Amazones Photographes d'Afrique (VAP'ART)
DESCRIPTION:Le Village des Amazones Photographes d'Afrique (VAP'ART) invest
 it l'Institut Français de Parakou du 17 au 21 décembre. Ce festival uniq
 ue rassemble 12 talentueuses femmes photographes issues de 7 pays africain
 s. À travers leurs expositions\, elles créent un espace d'expression art
 istique au cœur de la ville de Parakou.
ATTACH;FMTTYPE=image/jpeg:https://culturesetpatrimoines.bj/wp-content/uplo
 ads/2024/12/461399727_499541666184119_687890696296488240_n.jpg
CATEGORIES:Concours
LOCATION:Institut Français de Parakou\, Ladjifarani\, Parakou\, Parakou\, 
 Bénin\, Borgou\, Bénin
X-APPLE-STRUCTURED-LOCATION;VALUE=URI;X-ADDRESS=Ladjifarani\, Parakou\, Par
 akou\, Bénin\, Borgou\, Bénin;X-APPLE-RADIUS=100;X-TITLE=Institut Franç
 ais de Parakou:geo:0,0
END:VEVENT
END:VCALENDAR