BEGIN:VCALENDAR
VERSION:2.0
PRODID:-//wp-events-plugin.com//7.2.3.1//EN
BEGIN:VEVENT
UID:274@culturesetpatrimoines.bj
DTSTART:20250405T090000Z
DTEND:20250405T110000Z
DTSTAMP:20250404T110643Z
URL:https://culturesetpatrimoines.bj/evenements/les-panels-dafrique-decide
 -5/
SUMMARY:Les Panels d'Afrique Décide
DESCRIPTION:Les Panels d'Afrique Décide d'avril 2025 vous invitent à une 
 discussion avec Dr Osseni SOUBEROU\, expert en développement culturel\, m
 anagement de la culture et du tourisme. Le thème de cette session\, qui s
 e tiendra le samedi 5 avril 2025 de 10h à 12h\, portera sur "Le marché d
 u vodun Thron à Ouidah : état des lieux et analyse".
ATTACH;FMTTYPE=image/jpeg:https://culturesetpatrimoines.bj/wp-content/uplo
 ads/2025/04/485381070_1084727350350008_6430124604851495117_n.jpg
CATEGORIES:Forum
LOCATION:Institut Afrique Décide\, BP758 rue de la pâtisserie maison blan
 che\, Ouidah\, Ouidah\, Bénin\, Atlantique\, Bénin
X-APPLE-STRUCTURED-LOCATION;VALUE=URI;X-ADDRESS=BP758 rue de la pâtisserie
  maison blanche\, Ouidah\, Ouidah\, Bénin\, Atlantique\, Bénin;X-APPLE-R
 ADIUS=100;X-TITLE=Institut Afrique Décide:geo:0,0
END:VEVENT
END:VCALENDAR