BEGIN:VCALENDAR
VERSION:2.0
PRODID:-//wp-events-plugin.com//7.2.3.1//EN
BEGIN:VEVENT
UID:298@culturesetpatrimoines.bj
DTSTART:20250503T090000Z
DTEND:20250503T110000Z
DTSTAMP:20250428T222728Z
URL:https://culturesetpatrimoines.bj/evenements/les-panels-de-afrique-deci
 de-2/
SUMMARY:Les panels de Afrique Décide
DESCRIPTION:Les Panels d’Afrique Décide du mois de Mai 2025 vous amène 
 dans l’univers du FA\, en accueillant le BOKONON Pascal CHOLE\, prêtre 
 du Fa autour du thème :De la cour du Bokonon aux réseaux sociaux : entre
  authenticité et innovation\, que devient la parole du FA\n\nRendez vous 
 le 03 mai 2025 à 10h sur ce lien Google\n\n&nbsp\;\n\nhttps://meet.google
 .com/eky-dxxz-vnw\n\n&nbsp\;
ATTACH;FMTTYPE=image/jpeg:https://culturesetpatrimoines.bj/wp-content/uplo
 ads/2025/04/493287921_1114714354017974_1552868713902620682_n.jpg
CATEGORIES:Découverte
LOCATION:Institut Afrique Décide\, BP758 rue de la pâtisserie maison blan
 che\, Ouidah\, Ouidah\, Bénin\, Atlantique\, Bénin
X-APPLE-STRUCTURED-LOCATION;VALUE=URI;X-ADDRESS=BP758 rue de la pâtisserie
  maison blanche\, Ouidah\, Ouidah\, Bénin\, Atlantique\, Bénin;X-APPLE-R
 ADIUS=100;X-TITLE=Institut Afrique Décide:geo:0,0
END:VEVENT
END:VCALENDAR