BEGIN:VCALENDAR
VERSION:2.0
PRODID:-//wp-events-plugin.com//7.2.3.1//EN
BEGIN:VEVENT
UID:9@culturesetpatrimoines.bj
DTSTART;VALUE=DATE:20220929
DTEND;VALUE=DATE:20221002
DTSTAMP:20221207T221854Z
URL:https://culturesetpatrimoines.bj/evenements/les-produits-de-la-destina
 tion-route-des-tata-se-rapprochent-de-vous-a-cotonou/
SUMMARY:Les produits de la destination Route des Tata se rapprochent de vou
 s à Cotonou !
DESCRIPTION:La foire du partenariat gouvernement du Bénin et USADF a ouver
 t ses portes ce matin au Majestic de Cadjèhoun à Cotonou. Venez découvr
 ir et vous procurerez des produits artistiques fabriqués sur la destinati
 on Route des Tata : bracelet ybeni\, tote bags\, du pagne tissé\, des art
 icles de porterie\, des chapeaux\, des pipes\, des flûtes\, jupe en perle
 s\, beurre de karité etc.\n\nNe vous faites pas raconter cet événement.
  C’est jusqu’au 1er Octobre 2022. Faites massivement le déplacement. 
 L’équipe du Bureau d’Accueil et d’Informations Touristiques de la R
 oute des Tata vous attend au stand 22 !!\n\nOsez l'aventure au cœur du pa
 ysage Otammari.\n\nContactez-nous :\n📞+229 91515454\n📧info@routedest
 ata.bj\n\n#LaRoutedesTata\n#anpt #Architecturetata #Peupletammari #Paysage
 Otammari #DestinationBénin #BéninRévélé #EcotourismeBénin #Wasexo #T
 ataSomba #Boukombé #Atacora #NordBénin #travelbenin #gouvbenin #tourisme
  #découverteculturel #villageauthentique #culture #aventure
ATTACH;FMTTYPE=image/jpeg:https://culturesetpatrimoines.bj/wp-content/uplo
 ads/2022/09/WhatsApp-Image-2022-09-29-at-13.48.28.jpeg
CATEGORIES:Culture
END:VEVENT
END:VCALENDAR