BEGIN:VCALENDAR
VERSION:2.0
PRODID:-//wp-events-plugin.com//7.2.3.1//EN
BEGIN:VEVENT
UID:150@culturesetpatrimoines.bj
DTSTART:20241213T080000Z
DTEND:20241213T080000Z
DTSTAMP:20241211T160839Z
URL:https://culturesetpatrimoines.bj/evenements/master-class-humour-et-met
 ier-humoriste-au-benin/
SUMMARY:Master class : Humour et métier humoriste au Bénin
DESCRIPTION:Vous êtes humoriste ? Amateur ou confirmé ?\n\nRendez-vous le
  13 décembre à 9h à l’institut français de Parakou pour une mastercl
 ass exceptionnelle. Au programme : partage d'expériences\, réflexions su
 r le métier et bien plus encore.
ATTACH;FMTTYPE=image/jpeg:https://culturesetpatrimoines.bj/wp-content/uplo
 ads/2024/12/WhatsApp-Image-2024-12-11-at-15.22.30.jpeg
CATEGORIES:Master class
LOCATION:Institut Français de Parakou\, Ladjifarani\, Parakou\, Parakou\, 
 Bénin\, Borgou\, Bénin
X-APPLE-STRUCTURED-LOCATION;VALUE=URI;X-ADDRESS=Ladjifarani\, Parakou\, Par
 akou\, Bénin\, Borgou\, Bénin;X-APPLE-RADIUS=100;X-TITLE=Institut Franç
 ais de Parakou:geo:0,0
END:VEVENT
END:VCALENDAR