BEGIN:VCALENDAR
VERSION:2.0
PRODID:-//wp-events-plugin.com//7.2.3.1//EN
BEGIN:VEVENT
UID:94@culturesetpatrimoines.bj
DTSTART:20240701T070000Z
DTEND:20240705T070000Z
DTSTAMP:20240628T172238Z
URL:https://culturesetpatrimoines.bj/evenements/master-class-humour/
SUMMARY:Master Class Humour
DESCRIPTION:Amateurs et professionnels du rire\, une master class est mise 
 à votre disposition du 01 au 05 Juillet 2024 à l’Institut Français de
  Parakou pour comprendre les rouages du métiers de l’humour dans une at
 mosphère conviviale et humoristique.
ATTACH;FMTTYPE=image/jpeg:https://culturesetpatrimoines.bj/wp-content/uplo
 ads/2024/06/image_2024-06-28_181714641.png
CATEGORIES:Master class
LOCATION:Institut Français de Parakou\, Ladjifarani\, Parakou\, Parakou\, 
 Bénin\, Borgou\, Bénin
X-APPLE-STRUCTURED-LOCATION;VALUE=URI;X-ADDRESS=Ladjifarani\, Parakou\, Par
 akou\, Bénin\, Borgou\, Bénin;X-APPLE-RADIUS=100;X-TITLE=Institut Franç
 ais de Parakou:geo:0,0
END:VEVENT
END:VCALENDAR