BEGIN:VCALENDAR
VERSION:2.0
PRODID:-//wp-events-plugin.com//7.2.3.1//EN
BEGIN:VEVENT
UID:278@culturesetpatrimoines.bj
DTSTART:20250410T170000Z
DTEND:20250410T170000Z
DTSTAMP:20250409T105523Z
URL:https://culturesetpatrimoines.bj/evenements/meet-greet/
SUMMARY:MEET & GREET
DESCRIPTION:Ce jeudi 10 avril 2025 à 18h\, le Loft CréaLAB accueillera un
 e rencontre unique avec les artistes visuels Ishola Worou AKPO\, David GNA
 HA et Kolawolé ATCHO. Laboratorio Arts Contemporains vous convie à explo
 rer comment leur photographie et leurs arts visuels deviennent des dialogu
 es avec la mémoire\, les esprits et le monde invisible. Un événement in
 contournable pour ceux qui perçoivent l'art comme un langage au-delà des
  formes.
ATTACH;FMTTYPE=image/jpeg:https://culturesetpatrimoines.bj/wp-content/uplo
 ads/2025/04/489526339_987794986817816_7072083730614240284_n.jpg
CATEGORIES:Master class
LOCATION:Loft Créalab\, 4ème étage de l'immeuble Ecohau\, quartier #St_R
 ita\, dans la rue du nouveau marché de Wologuede\, cotonou\, Littoral\, B
 énin
X-APPLE-STRUCTURED-LOCATION;VALUE=URI;X-ADDRESS=4ème étage de l'immeuble 
 Ecohau\, quartier #St_Rita\, dans la rue du nouveau marché de Wologuede\,
  cotonou\, Littoral\, Bénin;X-APPLE-RADIUS=100;X-TITLE=Loft Créalab:geo:
 0,0
END:VEVENT
END:VCALENDAR