BEGIN:VCALENDAR
VERSION:2.0
PRODID:-//wp-events-plugin.com//7.2.3.1//EN
BEGIN:VEVENT
UID:110@culturesetpatrimoines.bj
DTSTART:20240919T230000Z
DTEND:20240927T230000Z
DTSTAMP:20240920T113646Z
URL:https://culturesetpatrimoines.bj/evenements/mois-du-consommons-local-1
 ere-edition-des-talents-reveles/
SUMMARY:Mois du consommons local : 1ère édition des Talents Révélés
DESCRIPTION:Talents béninois\, saisissez votre chance ! Le Mois du Consomm
 ons Local vous offre une plateforme exceptionnelle pour exprimer votre cr
 éativité. Chanteurs\, danseurs\, artistes visuels\, conteurs... Inscrive
 z-vous avant le 28 septembre et révélez votre talent lors de la premièr
 e édition des Talents Révélés. Scène\, public\, équipement : tout es
 t réuni pour faire de vous la prochaine star locale !\n\nLien pour s'insc
 rire: https://hi.switchy.io/inscription_talentsreveles2024
ATTACH;FMTTYPE=image/jpeg:https://culturesetpatrimoines.bj/wp-content/uplo
 ads/2024/09/Le-mois-du-consommons-local.jpg
CATEGORIES:Appel à candidature
END:VEVENT
END:VCALENDAR