BEGIN:VCALENDAR
VERSION:2.0
PRODID:-//wp-events-plugin.com//7.2.3.1//EN
BEGIN:VEVENT
UID:301@culturesetpatrimoines.bj
DTSTART:20250503T190000Z
DTEND:20250503T190000Z
DTSTAMP:20250430T152041Z
URL:https://culturesetpatrimoines.bj/evenements/one-man-show-sergent-komgu
 i/
SUMMARY:ONE MAN SHOW : Sergent Komgui
DESCRIPTION:Tenez-vous prêts pour une soirée exceptionnelle ! Sergent Kom
 gui\, l'humoriste au talent immense\, débarque pour la première fois à 
 Porto-Novo avec un one-man-show qui promet d'être inoubliable. \n\nMarqu
 ez vos agendas : Samedi 3 mai à 20h au Ciné Rex Kokoyè de Porto-Novo. V
 enez vibrer au rythme de son humour unique\, de ses récits captivants et 
 de ses réflexions profondes. Une soirée riche en surprises et en émotio
 ns vous attend ! Ne la manquez surtout pas !
ATTACH;FMTTYPE=image/jpeg:https://culturesetpatrimoines.bj/wp-content/uplo
 ads/2025/04/494232939_1151205503687562_3699681453153338266_n.jpg
CATEGORIES:Humour,Spectacle
END:VEVENT
END:VCALENDAR